BEGIN:VCALENDAR
VERSION:2.0
PRODID:-//Absolunet//NONSGML Cal API 1.0//EN
BEGIN:VEVENT
DTSTART:20260609T113000Z
DTEND:20260609T130000Z
UID:20260419T093212Z
DTSTAMP:20260419T093212Z
SUMMARY:Rencontre des nouveaux membres
END:VEVENT
END:VCALENDAR